BEGIN:VCALENDAR
VERSION:2.0
PRODID:-//ChamberMaster//Event Calendar 2.0//EN
METHOD:PUBLISH
X-PUBLISHED-TTL:P3D
REFRESH-INTERVAL:P3D
CALSCALE:GREGORIAN
BEGIN:VEVENT
DTSTART:20260425T203000Z
DTEND:20260426T003000Z
X-MICROSOFT-CDO-ALLDAYEVENT:FALSE
SUMMARY:BINGO - The American Legion Post 9
DESCRIPTION:Support Our Local Veterans and have fun at the same time! Join us for BINGO Every Saturday Doors open at 4:30 with Silent Bingo Main event starts at 6:30 Food and drinks available for purchase All proceeds fund veterans programs
X-ALT-DESC;FMTTYPE=text/html:Support Our Local Veterans and have fun at the same time! Join us for BINGO Every Saturday Doors open at 4:30 with Silent Bingo Main event starts at 6:30 Food and drinks available for purchase All proceeds fund veterans programs
LOCATION:4470 Hwy 17 N Brunswick\, GA (912) 574-7037
UID:e.620.18213
SEQUENCE:3
DTSTAMP:20260423T015929Z
URL:http://brunswickgoldenisles.sampleorg.com/events/details/bingo-the-american-legion-post-9-18213
END:VEVENT

END:VCALENDAR
